BEGIN:VCALENDAR
VERSION:2.0
PRODID:-//pretix//pretix.eu//
BEGIN:VTIMEZONE
TZID:Europe/Berlin
BEGIN:STANDARD
DTSTART:20001029T040000
RRULE:FREQ=YEARLY;BYDAY=-1SU;BYMONTH=10
TZNAME:CET
TZOFFSETFROM:+0200
TZOFFSETTO:+0100
END:STANDARD
BEGIN:DAYLIGHT
DTSTART:20000326T030000
RRULE:FREQ=YEARLY;BYDAY=-1SU;BYMONTH=3
TZNAME:CEST
TZOFFSETFROM:+0100
TZOFFSETTO:+0200
END:DAYLIGHT
END:VTIMEZONE
BEGIN:VEVENT
UID:pretix-hftf-benefiz-buyingher-0@ticketshop.hftf.at
DTSTART;TZID=Europe/Berlin:20251001T181500
DTEND;TZID=Europe/Berlin:20251001T191500
DESCRIPTION:Tickets: https://ticketshop.hftf.at/benefiz-buyingher/\nEinlass
 : 01.10.2025 18:00\nVeranstalter: HOPE FOR THE FUTURE Ticket-Shop
DTSTAMP:20260425T173141Z
LOCATION:Café Restaurant Meierei\, Hauptallee 3\, 1020 Wien
SUMMARY:Benefiz-Filmabend "Buying Her"
END:VEVENT
END:VCALENDAR
